BEGIN:VCALENDAR
VERSION:2.0
PRODID:-//Fondation de L&#039;Institut Agro - ECPv6.15.20//NONSGML v1.0//EN
CALSCALE:GREGORIAN
METHOD:PUBLISH
X-ORIGINAL-URL:https://fondation-institut-agro.fr
X-WR-CALDESC:Évènements pour Fondation de L&#039;Institut Agro
REFRESH-INTERVAL;VALUE=DURATION:PT1H
X-Robots-Tag:noindex
X-PUBLISHED-TTL:PT1H
BEGIN:VTIMEZONE
TZID:Europe/Paris
BEGIN:DAYLIGHT
TZOFFSETFROM:+0100
TZOFFSETTO:+0200
TZNAME:CEST
DTSTART:20240331T010000
END:DAYLIGHT
BEGIN:STANDARD
TZOFFSETFROM:+0200
TZOFFSETTO:+0100
TZNAME:CET
DTSTART:20241027T010000
END:STANDARD
BEGIN:DAYLIGHT
TZOFFSETFROM:+0100
TZOFFSETTO:+0200
TZNAME:CEST
DTSTART:20250330T010000
END:DAYLIGHT
BEGIN:STANDARD
TZOFFSETFROM:+0200
TZOFFSETTO:+0100
TZNAME:CET
DTSTART:20251026T010000
END:STANDARD
BEGIN:DAYLIGHT
TZOFFSETFROM:+0100
TZOFFSETTO:+0200
TZNAME:CEST
DTSTART:20260329T010000
END:DAYLIGHT
BEGIN:STANDARD
TZOFFSETFROM:+0200
TZOFFSETTO:+0100
TZNAME:CET
DTSTART:20261025T010000
END:STANDARD
END:VTIMEZONE
BEGIN:VEVENT
DTSTART;TZID=Europe/Paris:20250710T134500
DTEND;TZID=Europe/Paris:20250710T134500
DTSTAMP:20260425T060323
CREATED:20250414T085110Z
LAST-MODIFIED:20250428T121407Z
UID:27129-1752155100-1752155100@fondation-institut-agro.fr
SUMMARY:AgriTech World Tour : la 6e édition arrive !
DESCRIPTION:AgriTech World Tour : la 6e édition arrive ! \nCette nouvelle édition se tiendra le jeudi 22 mai 2025 à l’Institut Agro Dijon.\nÉdition après édition\, cet événement est devenu la référence de l’événement étudiant annuel en Agtech. \nAgriTech World Tour\, lieu et moment d’échanges\, de débats et de convivialité\, accueillera cette année son public sur le thème suivant : l’agriculture de demain\, les nouveaux défis. \nAu programme :\n13h45-17h retrouvez des témoignages des agronomes Sarah SINGLA — agricultrice\, mais aussi formatrice en agronomie chez Hum’s — et Alessandra KIRSCH — ingénieure agronome au CGAAER. Toutes deux sont engagées au quotidien au service de l’agriculture.\nÀ partir de 17h\, participez aux ateliers\, animations et repas avec le Food Truck du CROUS. \nL’AgriTech World Tour\, un événement par la Chaire Tech Agro Sup de la Fondation de l’Institut Agro et soutenu par Amazone\, Berthoud\, Kuhn et Lemken. \nDécouvrir la Chaire Tech Agro Sup // Suivre la Chaire sur LinkedIn
URL:https://fondation-institut-agro.fr/event/agritech-world/
LOCATION:L’Institut Agro Dijon\, 26 Bd Dr Petitjean\, Dijon\, 21000\, France
CATEGORIES:Chaire Tech Agro Sup
ATTACH;FMTTYPE=image/jpeg:https://fondation-institut-agro.fr/wp-content/uploads/2025/04/newFile_vtBtZKh-scaled-e1744625497315.jpeg
END:VEVENT
END:VCALENDAR