BEGIN:VCALENDAR
VERSION:2.0
PRODID:-//Fondation de L&#039;Institut Agro - ECPv6.15.20//NONSGML v1.0//EN
CALSCALE:GREGORIAN
METHOD:PUBLISH
X-ORIGINAL-URL:https://fondation-institut-agro.fr
X-WR-CALDESC:Évènements pour Fondation de L&#039;Institut Agro
REFRESH-INTERVAL;VALUE=DURATION:PT1H
X-Robots-Tag:noindex
X-PUBLISHED-TTL:PT1H
BEGIN:VTIMEZONE
TZID:Europe/Paris
BEGIN:DAYLIGHT
TZOFFSETFROM:+0100
TZOFFSETTO:+0200
TZNAME:CEST
DTSTART:20240331T010000
END:DAYLIGHT
BEGIN:STANDARD
TZOFFSETFROM:+0200
TZOFFSETTO:+0100
TZNAME:CET
DTSTART:20241027T010000
END:STANDARD
BEGIN:DAYLIGHT
TZOFFSETFROM:+0100
TZOFFSETTO:+0200
TZNAME:CEST
DTSTART:20250330T010000
END:DAYLIGHT
BEGIN:STANDARD
TZOFFSETFROM:+0200
TZOFFSETTO:+0100
TZNAME:CET
DTSTART:20251026T010000
END:STANDARD
BEGIN:DAYLIGHT
TZOFFSETFROM:+0100
TZOFFSETTO:+0200
TZNAME:CEST
DTSTART:20260329T010000
END:DAYLIGHT
BEGIN:STANDARD
TZOFFSETFROM:+0200
TZOFFSETTO:+0100
TZNAME:CET
DTSTART:20261025T010000
END:STANDARD
BEGIN:DAYLIGHT
TZOFFSETFROM:+0100
TZOFFSETTO:+0200
TZNAME:CEST
DTSTART:20270328T010000
END:DAYLIGHT
BEGIN:STANDARD
TZOFFSETFROM:+0200
TZOFFSETTO:+0100
TZNAME:CET
DTSTART:20271031T010000
END:STANDARD
END:VTIMEZONE
BEGIN:VTIMEZONE
TZID:UTC
BEGIN:STANDARD
TZOFFSETFROM:+0000
TZOFFSETTO:+0000
TZNAME:UTC
DTSTART:20230101T000000
END:STANDARD
END:VTIMEZONE
BEGIN:VEVENT
DTSTART;TZID=Europe/Paris:20260101T140000
DTEND;TZID=Europe/Paris:20260101T170000
DTSTAMP:20260422T162552
CREATED:20251001T065406Z
LAST-MODIFIED:20251216T092504Z
UID:29017-1767276000-1767286800@fondation-institut-agro.fr
SUMMARY:Rencontres Agroénergies de la Chaire Agroénergies pour une agriculture durable
DESCRIPTION:La Chaire Agroénergies pour une agriculture durable organise la première édition des Rencontres des Agroénergies le jeudi 11 décembre de 14h à 17h sur le campus de Dijon de l’Institut Agro. \nCes rencontres seront l’occasion de se familiariser avec ces nouvelles formes d’énergies à la ferme grâce à des présentations des filières méthanisation et agrivoltaïques\, ainsi que des témoignages et retours d’expérience de porteurs de projets. \nCet évènement est ouvert à tous : étudiants\, personnels de l’enseignement et de la recherche\, professionnels de filières\, agriculteurs et entreprises. \nPour des raisons d’organisation\, l’inscription est gratuite mais obligatoire en suivant ce lien
URL:https://fondation-institut-agro.fr/event/rencontres-agroenergies-de-la-chaire-agroenergies-pour-une-agriculture-durable/
LOCATION:L’Institut Agro Dijon\, 26 Bd Dr Petitjean\, Dijon\, 21000\, France
CATEGORIES:Chaire Agroénergies pour une agriculture durable
ATTACH;FMTTYPE=image/png:https://fondation-institut-agro.fr/wp-content/uploads/2025/10/Journee-Concept-de-la-Chaire-futurs-delevage.avif
END:VEVENT
BEGIN:VEVENT
DTSTART;TZID=Europe/Paris:20251218T090000
DTEND;TZID=Europe/Paris:20251218T170000
DTSTAMP:20260422T162552
CREATED:20250731T134802Z
LAST-MODIFIED:20251120T124313Z
UID:28399-1766048400-1766077200@fondation-institut-agro.fr
SUMMARY:Journée Natural Concept de la Chaire Futurs d'élevage
DESCRIPTION:L’eau\, un défi majeur pour les filières animales\nAgir collectivement pour préserver et partager la ressource\nLa Chaire Futurs d’élevage vous donne rendez-vous le 20 novembre 2025 sur le campus de Rennes pour une nouvelle édition de sa journée annuelle. \nChaque année\, cet événement rassemble étudiants\, enseignants-chercheurs\, professionnels et acteurs publics autour des grands défis qui traversent les filières animales. En 2025\, la thématique abordée est celle de l’eau\, ressource précieuse à préserver et à partager. Comment garantir un accès équitable à cette ressource\, en qualité et en quantité suffisantes\, pour toutes et tous ? Agriculteurs\, entreprises\, collectivités\, citoyens… la gestion de l’eau est un défi collectif\, qui appelle des réponses concertées à toutes les échelles. \nCette journée vise à croiser les regards et les expériences\, pour mieux comprendre les enjeux\, partager les solutions existantes et imaginer ensemble des pistes d’action concrètes pour des filières plus durables. \nAu programme : \n\nPolitiques publiques et cadre réglementaire\nAnalyse des consommations d’eau par type d’élevage : focus sur la Bretagne\nRetours d’expériences d’entreprises du secteur\nTable ronde dédiée aux innovations pour une meilleure gestion de la ressource\nPrésentation des travaux des étudiants de la chaire\nRemise du prix “Durabilité des élevages”\, au format “Ma thèse en 180 secondes”\nÉclairage sur les enjeux mondiaux de la gouvernance de l’eau\n\nCette nouvelle édition de la Journée Natural Concept s’annonce comme un temps fort pour comprendre\, débattre et agir collectivement\, au service de la résilience des filières animales et de la préservation d’un bien commun essentiel. \nRetrouvez le programme détaillé ici. \nPour des raisons d’organisation\, l’inscription à cet évènement est gratuite mais obligatoire en suivant ce lien. \n \nDécouvrir la Chaire Futurs d’élevage \n \nCette journée est organisée en partenariat avec les mécènes de la Chaire : Adventiel\, le Fonds de Dotation Roullier\, le Groupe Grimaud et la coopérative Innoval.
URL:https://fondation-institut-agro.fr/event/save-the-date-journee-natural-concept-de-la-chaire-futurs-delevage/
LOCATION:L’institut Agro Rennes-Angers\, Campus de Rennes\, 65 Rue de Saint-Brieuc\, Rennes\, 35042\, France
CATEGORIES:Chaire Futurs d'élevage
ATTACH;FMTTYPE=image/png:https://fondation-institut-agro.fr/wp-content/uploads/2025/07/Journee-Concept-de-la-Chaire-futurs-delevage-2.png
ORGANIZER;CN="Chaire Futurs d'%C3%A9levage":MAILTO:chaire-futurs-elevage@institut-agro.fr
END:VEVENT
BEGIN:VEVENT
DTSTART;TZID=Europe/Paris:20251211T090000
DTEND;TZID=Europe/Paris:20251211T170000
DTSTAMP:20260422T162552
CREATED:20250731T133524Z
LAST-MODIFIED:20250918T091550Z
UID:27377-1765443600-1765472400@fondation-institut-agro.fr
SUMMARY:Colloque de la Chaire Eau\, Agriculture et Changement Climatique
DESCRIPTION:« Animer un projet de territoire pour la gestion de l’eau : les défis de la prospective et de l’agroécologie » : nouveau colloque en octobre 2025. \nLa Chaire Eau\, Agriculture et Changement Climatique organise son prochain colloque sur le thème « Projets de Territoire pour la Gestion de l’Eau : Quels défis méthodologiques pour un partage équilibré ? ». Prévu pour le 23 octobre 2025\, celui-ci aura lieu à l’Institut Agro Montpellier\, de 9 heures à 17 heures. \nInscrivez-vous dès maintenant via le lien suivant\n \nCet événement est organisé par la Chaire\, construit avec ses membres et le soutien de ses partenaires.\nLe colloque est ouvert aux professionnels et élus des secteurs de l’eau et de l’agriculture\, aux scientifiques ainsi qu’aux étudiants. \nDécouvrir la Chaire EACC /Site de la Chaire
URL:https://fondation-institut-agro.fr/event/nouveau-colloque-de-la-chaire-eacc/
LOCATION:L’institut Agro Montpellier – Campus de la Gaillarde\, 2 Place Pierre Viala Campus La Gaillarde\, Montpellier\, 34060\, France
CATEGORIES:Chaire EACC
ATTACH;FMTTYPE=image/png:https://fondation-institut-agro.fr/wp-content/uploads/2025/05/Journee-Concept-de-la-Chaire-futurs-delevage1.png
END:VEVENT
BEGIN:VEVENT
DTSTART;TZID=Europe/Paris:20251106T093000
DTEND;TZID=Europe/Paris:20251106T163000
DTSTAMP:20260422T162553
CREATED:20250731T133429Z
LAST-MODIFIED:20251104T090527Z
UID:28392-1762421400-1762446600@fondation-institut-agro.fr
SUMMARY:Journée filière de la Chaire Semences pour demain
DESCRIPTION:La Chaire organise sa journée annuelle dédiée aux enjeux actuels et futurs de la filière semences le 9 octobre de 9h30 à 16h30 sur le campus de Rennes de l’Institut Agro. L’édition 2025 s’intéresse aux plantes de services\, un levier agronomique de plus en plus utilisé pour accompagner la transition agroécologique. \nAmélioration de la fertilité des sols\, régulation des adventices\, stimulation de la biodiversité\, réduction des intrants… les services rendus par ces plantes sont multiples. Pourtant\, leur déploiement à grande échelle reste freiné par divers verrous. \nÀ travers cette journée\, la Chaire propose de croiser les regards pour mettre en lumière les bénéfices agronomiques et environnementaux des plantes de service\, identifier les freins à leur adoption et les leviers à activer et questionner le rôle que peut jouer la filière semences pour structurer une offre\, accompagner l’innovation et répondre aux besoins du terrain. \nCet évènement est ouvert à tous : personnels de l’enseignement et de la recherche\, professionnels des instituts techniques et des entreprises\, communauté étudiante. \nRetrouvez le programme détaillé ici. \nPour des raisons d’organisation\, l’inscription à cet évènement est gratuite mais obligatoire en suivant ce lien.
URL:https://fondation-institut-agro.fr/event/save-the-date-journee-filiere-de-la-chaire-semences-pour-demain/
LOCATION:L’institut Agro Rennes-Angers\, Campus de Rennes\, 65 Rue de Saint-Brieuc\, Rennes\, 35042\, France
CATEGORIES:Chaire semences pour demain
ATTACH;FMTTYPE=image/png:https://fondation-institut-agro.fr/wp-content/uploads/2025/07/Journee-Concept-de-la-Chaire-futurs-delevage3-1.png
ORGANIZER;CN="Chaire Semences pour demain":MAILTO:chaire-semencespourdemain@institut-agro.fr
END:VEVENT
BEGIN:VEVENT
DTSTART;TZID=Europe/Paris:20250807T093000
DTEND;TZID=Europe/Paris:20250807T163000
DTSTAMP:20260422T162553
CREATED:20250328T142706Z
LAST-MODIFIED:20250428T135126Z
UID:26797-1754559000-1754584200@fondation-institut-agro.fr
SUMMARY:La Chaire AgroTIC organise son prochain séminaire
DESCRIPTION:Présentation du séminaire\n\n\n\n\n\nLes systèmes d’élevages pâturant sont des marqueurs économiques\, paysagers et culturels de nombreux territoires ruraux. Ils jouent un rôle clé dans la biodiversité dans les prairies\, mais nécessitent une grande maîtrise technique pour être économiquement viables. \nLa Chaire AgroTIC consacre une journée de séminaire à ces systèmes de production pour en comprendre les caractéristiques et échanger sur les réponses qu’apportent les outils numériques aux questions clés qui conditionnent leur performance socio-économique et environnementale : Comment les outils numériques permettent-ils d’évaluer la ressource fourragère en continu\, en termes quantitatifs et qualitatifs ? Comment permettent-ils d’optimiser la gestion du déplacement des animaux et des pâturages ? Quelles solutions numériques pour allier bien-être animal et confort de travail de l’éleveur en extérieur dans des espaces isolés ? Quelles technologies pour faciliter la coopération entre agriculteurs et autres partenaires locaux en cas de crise ? Comment les technologies numériques participent-elles aux assurances et aux stratégies de gestion de risques face aux aléas climatiques ? \nAu programme de cette journée : état de l’art scientifique\, panorama des avancées technologiques et témoignages d’acteurs de terrain. \nLe séminaire de la Chaire AgroTIC aura lieu le 19 juin 2025 (9h30 – 16h30) à L’Institut Agro Montpellier.\nLe programme détaillé est en cours de construction. \nInscription Gratuite
URL:https://fondation-institut-agro.fr/event/la-chaire-agrotic-organise-son-prochain-seminaire/
LOCATION:L’institut Agro Montpellier – Campus de la Gaillarde\, 2 Place Pierre Viala Campus La Gaillarde\, Montpellier\, 34060\, France
ATTACH;FMTTYPE=image/png:https://fondation-institut-agro.fr/wp-content/uploads/2025/03/visuelLinkedIN_NEWDATE2.png
END:VEVENT
BEGIN:VEVENT
DTSTART;TZID=Europe/Paris:20250710T134500
DTEND;TZID=Europe/Paris:20250710T134500
DTSTAMP:20260422T162553
CREATED:20250414T085110Z
LAST-MODIFIED:20250428T121407Z
UID:27129-1752155100-1752155100@fondation-institut-agro.fr
SUMMARY:AgriTech World Tour : la 6e édition arrive !
DESCRIPTION:AgriTech World Tour : la 6e édition arrive ! \nCette nouvelle édition se tiendra le jeudi 22 mai 2025 à l’Institut Agro Dijon.\nÉdition après édition\, cet événement est devenu la référence de l’événement étudiant annuel en Agtech. \nAgriTech World Tour\, lieu et moment d’échanges\, de débats et de convivialité\, accueillera cette année son public sur le thème suivant : l’agriculture de demain\, les nouveaux défis. \nAu programme :\n13h45-17h retrouvez des témoignages des agronomes Sarah SINGLA — agricultrice\, mais aussi formatrice en agronomie chez Hum’s — et Alessandra KIRSCH — ingénieure agronome au CGAAER. Toutes deux sont engagées au quotidien au service de l’agriculture.\nÀ partir de 17h\, participez aux ateliers\, animations et repas avec le Food Truck du CROUS. \nL’AgriTech World Tour\, un événement par la Chaire Tech Agro Sup de la Fondation de l’Institut Agro et soutenu par Amazone\, Berthoud\, Kuhn et Lemken. \nDécouvrir la Chaire Tech Agro Sup // Suivre la Chaire sur LinkedIn
URL:https://fondation-institut-agro.fr/event/agritech-world/
LOCATION:L’Institut Agro Dijon\, 26 Bd Dr Petitjean\, Dijon\, 21000\, France
CATEGORIES:Chaire Tech Agro Sup
ATTACH;FMTTYPE=image/jpeg:https://fondation-institut-agro.fr/wp-content/uploads/2025/04/newFile_vtBtZKh-scaled-e1744625497315.jpeg
END:VEVENT
BEGIN:VEVENT
DTSTART;TZID=Europe/Paris:20250710T083000
DTEND;TZID=Europe/Paris:20250710T160000
DTSTAMP:20260422T162553
CREATED:20250328T143912Z
LAST-MODIFIED:20250428T121503Z
UID:26800-1752136200-1752163200@fondation-institut-agro.fr
SUMMARY:La nouvelle journée Scientifique Vigne-Vin débarque
DESCRIPTION:La 16e édition de la Journée Scientifique Vigne & Vin se déroulera jeudi 22 mai sur le campus de la Gaillarde à l’Institut Agro Montpellier. Cette manifestation est organisée dans la dynamique de la communauté scientifique de Montpellier Vine & Wine Sciences\, par l’Institut Agro Montpellier\, INRAE\, l’Université de Montpellier et la Chaire d’entreprises Vigne et Vin. \n\n\n\nCet événement est destiné aux professionnels de la filière vitivinicole attentifs aux avancées de la recherche et aux innovations auxquelles elles peuvent conduire. Il a pour objectif de permettre une veille technologique sur un large éventail de problématiques viticoles\, œnologiques et économiques. \nUne approche pluridisciplinaire\nLa thématique de cette nouvelle édition est « Les communautés microbiennes en œnologie\, de la parcelle à la cave »\, et propose une approche pluridisciplinaire de ces questions avec des présentations de démarches développées en viticulture ainsi qu’en œnologie. \nLes connaissances présentées permettent de mieux comprendre les mécanismes régissant les interactions entre le microbiote et son environnement\, que ce soit dans le sol\, sur les feuilles de vigne\, sur les baies de raisin ou pendant la vinification. Elles nourrissent la réflexion autour de pratiques comme la bioprotection ou l’utilisation de levures indigènes. Il s’agit de tirer le meilleur potentiel de la biodiversité microbienne tout au long de la chaine d’élaboration du vin. \n\n\n\n\n\n\nAu programme des conférences\n\nPlace du microbiote dans l’holobionte vigne : de l’obtention de descripteurs fonctionnels à son management en production viti-vinicole\nSophie Trouvelot\, INRAE I UMR Agroécologie\nL’exploration des données du microbiote pour identifier les antagonistes du mildiou de la vigne\nPaula Fournier\, INRAE I UMR Save – UMR Agap Institut\nTraitements phytosanitaires et microbiote des baies de raisin\nCécile Neuvéglise I INRAE – UMR SPO & Evelyne Aguera I INRAE – UE Pech Rouge\nDes racines aux bouteilles : la magie des microbes\nAnne Humbert – Laurence Guérin & Moët Hennessy\nUne exploration des dynamiques microbiennes du paysage viticole au chai \nPaul Hübner\, INRAE I UMR SPO – UMR CBGP\nQualité des vins et microbiote : les premiers résultats du projet Holovini\nJean-Luc Legras\, INRAE I UMR SPO\nBiodiversité et flore microbienne du moût et du vin : de la caractérisation à la sélection\nAmandine Deroite – Jessica Noble & Lallemand OEnology\nConsortium mycobiotique dans la fermentation du vin\nGabriela Pinto Miguel\, Université de Montpellier I UMR SPO\nAvancées scientifiques récentes sur les levures Metschnikowia : applications en oenologie\nAudrey Bloem\, Université de Montpellier I UMR SPO\nCommunautés microbiennes comme outil de pilotage de la transition agroécologique à la parcelle\, de la théorie aux limites terrain\nLouise Nicourt I AdVini\nLe microbiote des kéfirs de fruit : origine et évolution\nPierre Renault\, INRAE I Micalis Institute\n\n\n\n\n\n\n\nL’inscription est obligatoire. \nJe m’inscris
URL:https://fondation-institut-agro.fr/event/la-nouvelle-journee-scientifique-vigne-vin-debarque/
LOCATION:L’institut Agro Montpellier – Campus de la Gaillarde\, 2 Place Pierre Viala Campus La Gaillarde\, Montpellier\, 34060\, France
ATTACH;FMTTYPE=image/jpeg:https://fondation-institut-agro.fr/wp-content/uploads/2025/03/1734513219989.jpg
END:VEVENT
BEGIN:VEVENT
DTSTART;TZID=Europe/Paris:20250612T170000
DTEND;TZID=Europe/Paris:20250612T190000
DTSTAMP:20260422T162553
CREATED:20250414T140331Z
LAST-MODIFIED:20250902T064115Z
UID:27164-1749747600-1749754800@fondation-institut-agro.fr
SUMMARY:Table ronde : l'élevage bovin en France\, quels leviers pour la décarbonation ?
DESCRIPTION:La Chaire Mieux produire pour mieux manger\, de l’agriculteur au consommateur organise le jeudi 24 avril à 17h\, à l’Institut Agro Rennes-Angers une table ronde sur « L’élevage bovin en France : quels leviers pour la décarbonation ? ». \nÉvénement ouvert à toutes et tous\, celui-ci présentera des cas pratiques\, des recommandations\, mais également les objectifs de réduction du GES – Gaz à Effet de Serre. \nAu programme de cet événement : cas pratique de l’empreinte carbone du Pôle Bœuf Agromousquetaires et recommandations du dernier rapport du Shift Project sur l’élevage bovin pour atteindre les objectifs de réduction de GES \nÀ la fin de cette table ronde\, un cocktail vous attendra. \nDécouvrir la Chaire Mieux produire pour mieux manger\, de l’agriculteur au consommateur  // Contact : christine.dumanget@institut-agro.fr
URL:https://fondation-institut-agro.fr/event/table-ronde-chaire-mieux-produire-poure-mieux-manger/
LOCATION:Amphithéâtre Paul Matagrin (Rennes)\, 65 rue de Saint Brieuc\, Rennes\, 35042\, France
CATEGORIES:Chaire mieux produire pour mieux manger
ATTACH;FMTTYPE=image/png:https://fondation-institut-agro.fr/wp-content/uploads/2025/04/Invitation-Table-ronde-Decarbonation-Elevage_web-1-e1744638950310.png
END:VEVENT
BEGIN:VEVENT
DTSTART;TZID=Europe/Paris:20250522T090000
DTEND;TZID=Europe/Paris:20250522T170000
DTSTAMP:20260422T162553
CREATED:20250328T141306Z
LAST-MODIFIED:20250428T121844Z
UID:26789-1747904400-1747933200@fondation-institut-agro.fr
SUMMARY:La 11e JIPAD arrive !
DESCRIPTION:Pour sa 11° édition\, l’événement JIPAD 2025 explore les innovations de l’alimentation durable – du champ à l’assiette –. Rendez-vous le jeudi 3 avril 2025 à l’Institut Agro Montpellier – Campus de la Gaillarde\, avec la promotion 2024-2025 du Mastère Spécialisé ® Innovations et politiques pour une alimentation durable. \n\nUne journée dédiée aux initiatives en faveur de l’alimentation durable\nRendez-vous sur le Campus de La Gaillarde\, à l’Amphithéâtre Philippe Lamour\, de 09h à 17h\, où les étudiant·es de la formation IPAD vous accueilleront chaleureusement. \nCet événement sera également accessible en visioconférence\, permettant à toutes et tous de suivre les échanges et présentations tout au long de la journée. \nUne journée\, cinq thèmes\nL’édition 2025 explorera les enjeux de la transition vers des systèmes alimentaires durables à travers plusieurs thématiques majeures :\n– Alimentation durable et pouvoir d’agir des mangeurs\n– Consomm’acteur… vraiment ?\n– Se relier pour subsister\n– Du champ à l’assiette\n– Le bonheur est dans l’assiette \nInscription Gratuite
URL:https://fondation-institut-agro.fr/event/la-11e-jipad-arrive-linstitut-agro/
LOCATION:L’institut Agro Montpellier – Campus de la Gaillarde\, 2 Place Pierre Viala Campus La Gaillarde\, Montpellier\, 34060\, France
ATTACH;FMTTYPE=image/png:https://fondation-institut-agro.fr/wp-content/uploads/2025/03/banniere-JIPAD-2025-copie-1.png
END:VEVENT
BEGIN:VEVENT
DTSTART;VALUE=DATE:20250328
DTEND;VALUE=DATE:20250329
DTSTAMP:20260422T162553
CREATED:20250114T152007Z
LAST-MODIFIED:20250428T121815Z
UID:25157-1743120000-1743206399@fondation-institut-agro.fr
SUMMARY:14ᵉ colloque annuel de la Chaire Unesco Alimentations du Monde
DESCRIPTION:Pour son 14ᵉ colloque annuel\, la Chaire a choisi de s’intéresser aux alimentations africaines. Quels sont aujourd’hui les grands enjeux auxquels font face l’agriculture et l’alimentation ? Quels sont les impacts prévisibles des changements climatiques ? Comment les cuisines africaines se transmettent-elles ? Comment se projettent-elles en dehors du continent ? \nLe continent africain ne peut pas se réduire\, d’un côté\, à celui de la pauvreté et des conflits et\, de l’autre\, au nouvel eldorado que le développement de sa classe moyenne urbaine fait espérer. Les Afriques\, car le continent est très divers\, revendiquent leur souveraineté alimentaire et leur capacité à inventer leurs alimentations de demain\, à la fois dans les modèles d’entreprises\, les produits et les cultures alimentaires. L’innovation est partout : chez les artisanes\, les nouvelles PME ou encore la restauration populaire. Les façons dont s’organise le secteur agro-alimentaire constituent des réponses inspirantes face aux défis démographiques\, économiques\, climatiques et sanitaires auquel doit faire face le continent.
URL:https://fondation-institut-agro.fr/event/14%e1%b5%89-colloque-annuel-de-la-chaire-unesco-alimentations-du-monde/
LOCATION:L’Institut Agro Montpellier – place Pierre Viala Amphithéâtre Philippe Lamour\, 2 Place Pierre Viala Campus La Gaillarde\, Montpellier\, 34000\, France
CATEGORIES:Chaire Unesco Alimentation du Monde
ATTACH;FMTTYPE=image/png:https://fondation-institut-agro.fr/wp-content/uploads/2025/01/black_coming_soon_simple_facebook_facebook_post_-1d26b-e1737121934139.png
END:VEVENT
BEGIN:VEVENT
DTSTART;TZID=Europe/Paris:20250128T090000
DTEND;TZID=Europe/Paris:20250128T163000
DTSTAMP:20260422T162553
CREATED:20241128T094557Z
LAST-MODIFIED:20250428T121739Z
UID:24036-1738054800-1738081800@fondation-institut-agro.fr
SUMMARY:Séminaire : « Comment réussir le passage à grande échelle de la robotique en agriculture ? »
DESCRIPTION:La Chaire AgroTIC organise son séminaire : « Comment réussir le passage à grande échelle de la robotique en agriculture ? ».\nCe séminaire organisé en partenariat avec le Grand Défi pour la Robotique Agricole (GDRA) tentera d’apporter différentes réflexions et points de vue autour de la robotique en agriculture\, à travers le regard de la recherche\, des entreprises et des agriculteurs.
URL:https://fondation-institut-agro.fr/event/comment-reussir-le-passage-a-grande-echelle-de-la-robotique-en-agriculture/
LOCATION:Bordeaux Sciences Agro\, 1 Cr du Général de Gaulle\, Gradignan\, 33170\, France
ATTACH;FMTTYPE=image/webp:https://fondation-institut-agro.fr/wp-content/uploads/2024/11/Visuel-Seminaire-Robotique-Chaire-2048x1448.jpg.webp
END:VEVENT
BEGIN:VEVENT
DTSTART;VALUE=DATE:20241217
DTEND;VALUE=DATE:20241218
DTSTAMP:20260422T162553
CREATED:20240904T064300Z
LAST-MODIFIED:20240904T064300Z
UID:21595-1734393600-1734479999@fondation-institut-agro.fr
SUMMARY:Une conférence sur la réutilisation des eaux usées organisée en octobre 2024 à Montpellier
DESCRIPTION:
URL:https://fondation-institut-agro.fr/event/une-conference-sur-la-reutilisation-des-eaux-usees-organisee-en-octobre-2024-a-montpellier/
END:VEVENT
BEGIN:VEVENT
DTSTART;VALUE=DATE:20241128
DTEND;VALUE=DATE:20241129
DTSTAMP:20260422T162553
CREATED:20240904T064244Z
LAST-MODIFIED:20250428T121637Z
UID:21575-1732752000-1732838399@fondation-institut-agro.fr
SUMMARY:Les ressources génétiques : clés de l'adaptation au changement climatique ?
DESCRIPTION:La Chaire Semences pour demain organise sa journée filière “Les ressources génétiques : clés de l’adaptation au changement climatique ?” le jeudi 10 octobre sur la campus de Angers. \n🌿 Le 10 octobre\, plongez dans l’univers des ressources phytogénétiques. \nEnvie de tout savoir sur les ressources phytogénétiques et de leur potentiel pour faire face aux défis climatiques ? Rejoignez-nous sur notre campus Angevin pour une journée unique\, dédiée aux innovations\, aux activités de recherche\, et aux acteurs engagés dans la préservation de ces ressources précieuses\, essentielles pour la biodiversité et la transition agroécologique. \nLa participation est gratuite mais les places sont limitées !\n👉 Inscription obligatoire : https://inscription.agrocampus-ouest.fr/index.php/413157?newtest=Y&lang=fr \nProfessionnels\, étudiants\, enseignants\, nous avons hâte de vous accueillir pour des discussions passionnantes sur le rôle crucial de ces ressources\, témoins de notre passé et promesses d’avenir ! 🌱 🌍
URL:https://fondation-institut-agro.fr/event/les-ressources-genetiques-cles-de-ladaptation-au-changement-climatique/
LOCATION:L’institut Agro angers\, 2 rue André Le Nôtre\, Angers\, 49045\, France
CATEGORIES:Chaire semences pour demain
ORGANIZER;CN="Chaire Semences pour demain":MAILTO:chaire-semencespourdemain@institut-agro.fr
END:VEVENT
END:VCALENDAR